BEGIN:VCALENDAR
VERSION:2.0
PRODID:-//Freeport Park District - ECPv6.15.16//NONSGML v1.0//EN
CALSCALE:GREGORIAN
METHOD:PUBLISH
X-WR-CALNAME:Freeport Park District
X-ORIGINAL-URL:https://freeportparkdistrict.org
X-WR-CALDESC:Events for Freeport Park District
REFRESH-INTERVAL;VALUE=DURATION:PT1H
X-Robots-Tag:noindex
X-PUBLISHED-TTL:PT1H
BEGIN:VTIMEZONE
TZID:America/Chicago
BEGIN:DAYLIGHT
TZOFFSETFROM:-0600
TZOFFSETTO:-0500
TZNAME:CDT
DTSTART:20230312T080000
END:DAYLIGHT
BEGIN:STANDARD
TZOFFSETFROM:-0500
TZOFFSETTO:-0600
TZNAME:CST
DTSTART:20231105T070000
END:STANDARD
BEGIN:DAYLIGHT
TZOFFSETFROM:-0600
TZOFFSETTO:-0500
TZNAME:CDT
DTSTART:20240310T080000
END:DAYLIGHT
BEGIN:STANDARD
TZOFFSETFROM:-0500
TZOFFSETTO:-0600
TZNAME:CST
DTSTART:20241103T070000
END:STANDARD
BEGIN:DAYLIGHT
TZOFFSETFROM:-0600
TZOFFSETTO:-0500
TZNAME:CDT
DTSTART:20250309T080000
END:DAYLIGHT
BEGIN:STANDARD
TZOFFSETFROM:-0500
TZOFFSETTO:-0600
TZNAME:CST
DTSTART:20251102T070000
END:STANDARD
BEGIN:DAYLIGHT
TZOFFSETFROM:-0600
TZOFFSETTO:-0500
TZNAME:CDT
DTSTART:20260308T080000
END:DAYLIGHT
BEGIN:STANDARD
TZOFFSETFROM:-0500
TZOFFSETTO:-0600
TZNAME:CST
DTSTART:20261101T070000
END:STANDARD
BEGIN:DAYLIGHT
TZOFFSETFROM:-0600
TZOFFSETTO:-0500
TZNAME:CDT
DTSTART:20270314T080000
END:DAYLIGHT
BEGIN:STANDARD
TZOFFSETFROM:-0500
TZOFFSETTO:-0600
TZNAME:CST
DTSTART:20271107T070000
END:STANDARD
END:VTIMEZONE
BEGIN:VEVENT
DTSTART;TZID=America/Chicago:20260424T110000
DTEND;TZID=America/Chicago:20260424T130000
DTSTAMP:20260422T170825
CREATED:20260304T171526Z
LAST-MODIFIED:20260304T171535Z
UID:4136-1777028400-1777035600@freeportparkdistrict.org
SUMMARY:Arbor Day
DESCRIPTION:
URL:https://freeportparkdistrict.org/calendar-events/arbor-day/
ATTACH;FMTTYPE=image/png:https://freeportparkdistrict.org/wp-content/uploads/2026/03/Arbor-Day-Website.webp
END:VEVENT
BEGIN:VEVENT
DTSTART;TZID=America/Chicago:20260422T170000
DTEND;TZID=America/Chicago:20260422T190000
DTSTAMP:20260422T170825
CREATED:20260401T180049Z
LAST-MODIFIED:20260401T180051Z
UID:4362-1776877200-1776884400@freeportparkdistrict.org
SUMMARY:Registration Night
DESCRIPTION:Let’s Play!\nLooking for an easy and exciting way to plan your summer? This is it!\nJoin us for our Registration Night: a one-night-only opportunity to get ahead\, get inspired\, and maybe even win!\n• Get registered quickly with staff on hand to help\n• Explore programs and find the perfect fit for your family\n• Ask questions and get personalized recommendations\n• Be automatically entered into raffle drawings when you register!
URL:https://freeportparkdistrict.org/calendar-events/registration-night/
ATTACH;FMTTYPE=image/png:https://freeportparkdistrict.org/wp-content/uploads/2026/04/web-event.webp
END:VEVENT
BEGIN:VEVENT
DTSTART;VALUE=DATE:20260416
DTEND;VALUE=DATE:20260422
DTSTAMP:20260422T170825
CREATED:20260416T114815Z
LAST-MODIFIED:20260417T194433Z
UID:4389-1776297600-1776815999@freeportparkdistrict.org
SUMMARY:Wetlands Nature Preserve Park Closed Due to High Water
DESCRIPTION:Wetlands Nature Preserve Park is currently closed due to high water caused by recent heavy rainfall.
URL:https://freeportparkdistrict.org/calendar-events/wetlands-nature-preserve-park-closed-due-to-high-water/
ATTACH;FMTTYPE=image/png:https://freeportparkdistrict.org/wp-content/uploads/2026/04/wetlands-stormy.webp
END:VEVENT
BEGIN:VEVENT
DTSTART;TZID=America/Chicago:20260407T090000
DTEND;TZID=America/Chicago:20260407T140000
DTSTAMP:20260422T170825
CREATED:20260407T155322Z
LAST-MODIFIED:20260407T155555Z
UID:4378-1775552400-1775570400@freeportparkdistrict.org
SUMMARY:Notice of Open Controlled Burn - Winter Park
DESCRIPTION:Residents are advised that an open\, controlled burn is scheduled for Tuesday\, April 7\, 2026 at Winter Park during the hours of approximately 9am-2pm. \nThis controlled burn is approved by the Freeport Fire Department and will be a managed activity conducted under appropriate weather conditions to promote healthy prairie growth\, reduce invasive species and maintain the natural ecosystem.\nPlease note\, if the weather does not allow for safe controlled burn operation\, an alternative date will be communicated. \nDuring this time\, residents may notice smoke in the area. Trained Park District staff will be on-site to safely manage and monitor the burning throughout the operation. \nWe appreciate your understanding and cooperation. If you have any questions or concerns\, please contact the Freeport Park District.
URL:https://freeportparkdistrict.org/calendar-events/notice-of-open-controlled-burn-winter-park/
ATTACH;FMTTYPE=image/jpeg:https://freeportparkdistrict.org/wp-content/uploads/2025/10/WINTER-PARK-scaled.jpg
END:VEVENT
BEGIN:VEVENT
DTSTART;TZID=America/Chicago:20260404T110000
DTEND;TZID=America/Chicago:20260404T130000
DTSTAMP:20260422T170825
CREATED:20260304T171250Z
LAST-MODIFIED:20260403T143710Z
UID:4133-1775300400-1775307600@freeportparkdistrict.org
SUMMARY:Bunny Trail - Rain or Shine!
DESCRIPTION:Rain\, rain\, go away…but the Bunny Trail is here to stay!\n\n\nIn the event of severe storms\, we will share updates. Otherwise\, grab your rain boots or sunglasses—the Bunny Trail is happening rain or shine!
URL:https://freeportparkdistrict.org/calendar-events/bunny-trail-4/
ATTACH;FMTTYPE=image/png:https://freeportparkdistrict.org/wp-content/uploads/2026/03/Bunny-Trail-Website-1.webp
END:VEVENT
BEGIN:VEVENT
DTSTART;TZID=America/Chicago:20260227T180000
DTEND;TZID=America/Chicago:20260227T203000
DTSTAMP:20260422T170825
CREATED:20251202T202424Z
LAST-MODIFIED:20260227T190827Z
UID:3490-1772215200-1772224200@freeportparkdistrict.org
SUMMARY:Mom & Me Masquerade
DESCRIPTION:Hey\, Moms – let your special young man escort you for a night of dancing\, games\, prizes\, and fun! \nSpace is limited – Register today by calling 815-235-6114 or online.
URL:https://freeportparkdistrict.org/calendar-events/mom-me-masquerade-4/
ATTACH;FMTTYPE=image/png:https://freeportparkdistrict.org/wp-content/uploads/2025/12/cover-website-1.webp
END:VEVENT
BEGIN:VEVENT
DTSTART;TZID=America/Chicago:20260213T180000
DTEND;TZID=America/Chicago:20260213T203000
DTSTAMP:20260422T170825
CREATED:20251202T202030Z
LAST-MODIFIED:20251205T170307Z
UID:3486-1771005600-1771014600@freeportparkdistrict.org
SUMMARY:Candyland Ball
DESCRIPTION:An enchanting night of dressing up\, dancing\, and royal memories at the Masonic Event Center await you! \nSpace is limited – Register today by calling 815-235-6114 or online.
URL:https://freeportparkdistrict.org/calendar-events/candyland-ball-6/
ATTACH;FMTTYPE=image/png:https://freeportparkdistrict.org/wp-content/uploads/2025/12/cover-website.webp
END:VEVENT
BEGIN:VEVENT
DTSTART;TZID=America/Chicago:20260105T080000
DTEND;TZID=America/Chicago:20260331T170000
DTSTAMP:20260422T170825
CREATED:20260105T185711Z
LAST-MODIFIED:20260105T185711Z
UID:3817-1767600000-1774976400@freeportparkdistrict.org
SUMMARY:Read Park Pavilion Under Renovation
DESCRIPTION:
URL:https://freeportparkdistrict.org/calendar-events/read-park-pavilion-under-renovation/
ATTACH;FMTTYPE=image/png:https://freeportparkdistrict.org/wp-content/uploads/2026/01/Read-Park-Closure.webp
END:VEVENT
BEGIN:VEVENT
DTSTART;TZID=America/Chicago:20260101T080000
DTEND;TZID=America/Chicago:20260101T170000
DTSTAMP:20260422T170825
CREATED:20251230T165952Z
LAST-MODIFIED:20251230T170151Z
UID:3788-1767254400-1767286800@freeportparkdistrict.org
SUMMARY:Holiday Office Hours
DESCRIPTION:
URL:https://freeportparkdistrict.org/calendar-events/holiday-office-hours/
ATTACH;FMTTYPE=image/png:https://freeportparkdistrict.org/wp-content/uploads/2025/12/New-Years-Website-Post.webp
END:VEVENT
BEGIN:VEVENT
DTSTART;VALUE=DATE:20251224
DTEND;VALUE=DATE:20251227
DTSTAMP:20260422T170825
CREATED:20251223T155408Z
LAST-MODIFIED:20251223T155626Z
UID:3762-1766534400-1766793599@freeportparkdistrict.org
SUMMARY:Freeport Park District Holiday Office Hours
DESCRIPTION:The Freeport Park District Administration Center will be closed on Wednesday\, December 24 and Thursday\, December 25. We will reopen Friday\, December 26 for normal business hours. \n  \n 
URL:https://freeportparkdistrict.org/calendar-events/freeport-park-district-holiday-office-hours-2/
ATTACH;FMTTYPE=image/png:https://freeportparkdistrict.org/wp-content/uploads/2025/12/Krape-Santa.webp
END:VEVENT
BEGIN:VEVENT
DTSTART;TZID=America/Chicago:20251212T170000
DTEND;TZID=America/Chicago:20251212T190000
DTSTAMP:20260422T170825
CREATED:20251201T210751Z
LAST-MODIFIED:20251211T195932Z
UID:3358-1765558800-1765566000@freeportparkdistrict.org
SUMMARY:Santa at Krape Park Community Building
DESCRIPTION:Santa is getting ready for his visit to Freeport!\nFreeport Park District is ready to welcome him and your family for a festive evening. Join us for a holiday craft\, hot chocolate and experience some Christmas spirit at Krape Park.\nFREE EVENT!
URL:https://freeportparkdistrict.org/calendar-events/santa-at-krape-park/
ATTACH;FMTTYPE=image/png:https://freeportparkdistrict.org/wp-content/uploads/2025/12/Santa-is-Coming-1-1.webp
END:VEVENT
BEGIN:VEVENT
DTSTART;TZID=America/Chicago:20251206T090000
DTEND;TZID=America/Chicago:20251206T210000
DTSTAMP:20260422T170825
CREATED:20251201T210751Z
LAST-MODIFIED:20251201T211235Z
UID:3355-1765011600-1765054800@freeportparkdistrict.org
SUMMARY:Magnificent Mile Bus Trip
DESCRIPTION:FaLaLa!Our favorite annual bus trip is planned! Shop\, see the lights\, and explore downtown Chicago at Christmas!\nRegister by 11/21 by calling 815-235-6114 or online: https://bit.ly/3VPH8Y4\n$45 Residents$50 Non-Residents
URL:https://freeportparkdistrict.org/calendar-events/magnificent-mile-bus-trip-3/
ATTACH;FMTTYPE=image/png:https://freeportparkdistrict.org/wp-content/uploads/2025/12/Mag-Mile-Bus-Trip.avif
END:VEVENT
BEGIN:VEVENT
DTSTART;TZID=America/Chicago:20241204T080000
DTEND;TZID=America/Chicago:20250214T170000
DTSTAMP:20260422T170825
CREATED:20251201T204613Z
LAST-MODIFIED:20251205T162156Z
UID:3275-1733299200-1739552400@freeportparkdistrict.org
SUMMARY:Candyland Ball
DESCRIPTION:
URL:https://freeportparkdistrict.org/calendar-events/candyland-ball-5/
ATTACH;FMTTYPE=image/png:https://freeportparkdistrict.org/wp-content/uploads/2025/12/cover-website.webp
END:VEVENT
END:VCALENDAR